BEGIN:VCALENDAR
VERSION:2.0
PRODID:-//eventon.com NONSGML v1.0//EN
CALSCALE:GREGORIAN
METHOD:PUBLISH
BEGIN:VEVENT
UID:69e5efdfce96c
DTSTAMP:20260420T092031Z
DTSTART:20250222T030000Z
DTEND:20250222T060000Z
LOCATION:Orana Steiner School
SUMMARY:AUSTA ACT - Pedagogy Day
DESCRIPTION:Save the date!!\nhttps://www.austa.asn.au/events/austa-act-peda
 gogy-day/
URL:https://www.austa.asn.au/events/austa-act-pedagogy-day/
END:VEVENT
END:VCALENDAR